BEGIN:VCALENDAR
VERSION:2.0
PRODID:-//eventon.com NONSGML v1.0//EN
CALSCALE:GREGORIAN
METHOD:PUBLISH
BEGIN:VEVENT
UID:69e7ff5622731
DTSTAMP:20260421T225102Z
DTSTART:20260704
DTEND:20260705
LOCATION:
SUMMARY:NK Sprint Event
DESCRIPTION:NK Sprint Event\nhttps://splashimpact.nl/events/nk-sprint-event
 /
URL:https://splashimpact.nl/events/nk-sprint-event/
END:VEVENT
END:VCALENDAR