BEGIN:VCALENDAR
VERSION:2.0
PRODID:-//eventon.com NONSGML v1.0//EN
CALSCALE:GREGORIAN
METHOD:PUBLISH
BEGIN:VEVENT
UID:69e7fff62413e
DTSTAMP:20260421T225342Z
DTSTART:20260502
DTEND:20260503
LOCATION:
SUMMARY:WorldCup Rotterdam Event
DESCRIPTION:De exacte datum wordt later bekend.\nhttps://splashimpact.nl/ev
 ents/worldcup-rotterdam-event/
URL:https://splashimpact.nl/events/worldcup-rotterdam-event/
END:VEVENT
END:VCALENDAR